Workbook

Sheet Total
B1: =MAX(B3:B12) -> 0
A2: ÍTEM | B2: CERTIF. | C2: MARCA DEL ÍTEM | D2: MODELO DEL ÍTEM | E2: NÚMERO DE SERIE DEL ÍTEM | F2: PRINCIPIO DE FUNCIONAMIENTO | G2: DETECCIÓN | H2: LÍMITE DE VELOCIDAD | I2: INTERVALO DE MEDIDA | J2: RESOLUCIÓN | K2: PRECISIÓN | L2: TEMPERATURA DE TRABAJO - RANGO | M2: HUMEDAD DE TRABAJO - RANGO | N2: COORDENADAS | O2: IDENTIFICACIÓN | P2: PROVINCIA | Q2: CANTON | R2: VIA | S2: REFERENCIA
A3: =IF(E3=0,"",1) | B3: =IF(G3="Aproximación y Alejamiento",2,IF(G3="Alejamiento",1,IF(G3="Aproximación",1,""))) | C3: =Ítem1!B14 -> 0 | D3: =Ítem1!C14 -> 0 | E3: =Ítem1!D14 -> 0 | F3: =Ítem1!E14 -> 0 | G3: =Ítem1!F14 -> 0 | H3: =Ítem1!C31 -> 0 | I3: =Ítem1!C17 -> X km/h a XXX km/h | J3: =Ítem1!D17 -> X,XX km/h | K3: =Ítem1!E17 -> X,XX km/h - XX% | L3: =Ítem1!B20 -> X ºC a XX ºC | M3: =Ítem1!C20 -> X %HR a XX %HR | N3: =Ítem1!D20 -> -0.172494, -78.497285 | O3: =Ítem1!E20 -> 0 | P3: =Ítem1!F20 -> 0 | Q3: =Ítem1!G20 -> 0 | R3: =Ítem1!H20 -> 0 | S3: =Ítem1!I20 -> 0
A4: =IF(E4=0,"",2) | B4: =IF(G4="Aproximación y Alejamiento",2,IF(G4="Alejamiento",1,IF(G4="Aproximación",1,""))) | C4: =Ítem2!B14 -> 0 | D4: =Ítem2!C14 -> 0 | E4: =Ítem2!D14 -> 0 | F4: =Ítem2!E14 -> 0 | G4: =Ítem2!F14 -> 0 | H4: =Ítem2!C31 -> 0 | I4: =Ítem2!C17 -> X km/h a XXX km/h | J4: =Ítem2!D17 -> X,XX km/h | K4: =Ítem2!E17 -> X,XX km/h - XX% | L4: =Ítem2!B20 -> X ºC a XX ºC | M4: =Ítem2!C20 -> X %HR a XX %HR | N4: =Ítem2!D20 -> -0.172494, -78.497285 | O4: =Ítem2!E20 -> 0 | P4: =Ítem2!F20 -> 0 | Q4: =Ítem2!G20 -> 0 | R4: =Ítem2!H20 -> 0 | S4: =Ítem2!I20 -> 0
A5: =IF(E5=0,"",3) | B5: =IF(G5="Aproximación y Alejamiento",2,IF(G5="Alejamiento",1,IF(G5="Aproximación",1,""))) | C5: =Ítem3!B14 -> 0 | D5: =Ítem3!C14 -> 0 | E5: =Ítem3!D14 -> 0 | F5: =Ítem3!E14 -> 0 | G5: =Ítem3!F14 -> 0 | H5: =Ítem3!C31 -> 0 | I5: =Ítem3!C17 -> X km/h a XXX km/h | J5: =Ítem3!D17 -> X,XX km/h | K5: =Ítem3!E17 -> X,XX km/h - XX% | L5: =Ítem3!B20 -> X ºC a XX ºC | M5: =Ítem3!C20 -> X %HR a XX %HR | N5: =Ítem3!D20 -> -0.172494, -78.497285 | O5: =Ítem3!E20 -> 0 | P5: =Ítem3!F20 -> 0 | Q5: =Ítem3!G20 -> 0 | R5: =Ítem3!H20 -> 0 | S5: =Ítem3!I20 -> 0
A6: =IF(E6=0,"",4) | B6: =IF(G6="Aproximación y Alejamiento",2,IF(G6="Alejamiento",1,IF(G6="Aproximación",1,""))) | C6: =Ítem4!B14 -> 0 | D6: =Ítem4!C14 -> 0 | E6: =Ítem4!D14 -> 0 | F6: =Ítem4!E14 -> 0 | G6: =Ítem4!F14 -> 0 | H6: =Ítem4!C31 -> 0 | I6: =Ítem4!C17 -> X km/h a XXX km/h | J6: =Ítem4!D17 -> X,XX km/h | K6: =Ítem4!E17 -> X,XX km/h - XX% | L6: =Ítem4!B20 -> X ºC a XX ºC | M6: =Ítem4!C20 -> X %HR a XX %HR | N6: =Ítem4!D20 -> -0.172494, -78.497285 | O6: =Ítem4!E20 -> 0 | P6: =Ítem4!F20 -> 0 | Q6: =Ítem4!G20 -> 0 | R6: =Ítem4!H20 -> 0 | S6: =Ítem4!I20 -> 0
A7: =IF(E7=0,"",5) | B7: =IF(G7="Aproximación y Alejamiento",2,IF(G7="Alejamiento",1,IF(G7="Aproximación",1,""))) | C7: =Ítem5!B14 -> 0 | D7: =Ítem5!C14 -> 0 | E7: =Ítem5!D14 -> 0 | F7: =Ítem5!E14 -> 0 | G7: =Ítem5!F14 -> 0 | H7: =Ítem5!C31 -> 0 | I7: =Ítem5!C17 -> X km/h a XXX km/h | J7: =Ítem5!D17 -> X,XX km/h | K7: =Ítem5!E17 -> X,XX km/h - XX% | L7: =Ítem5!B20 -> X ºC a XX ºC | M7: =Ítem5!C20 -> X %HR a XX %HR | N7: =Ítem5!D20 -> -0.172494, -78.497285 | O7: =Ítem5!E20 -> 0 | P7: =Ítem5!F20 -> 0 | Q7: =Ítem5!G20 -> 0 | R7: =Ítem5!H20 -> 0 | S7: =Ítem5!I20 -> 0
A8: =IF(E8=0,"",6) | B8: =IF(G8="Aproximación y Alejamiento",2,IF(G8="Alejamiento",1,IF(G8="Aproximación",1,""))) | C8: =Ítem6!B14 -> 0 | D8: =Ítem6!C14 -> 0 | E8: =Ítem6!D14 -> 0 | F8: =Ítem6!E14 -> 0 | G8: =Ítem6!F14 -> 0 | H8: =Ítem6!C31 -> 0 | I8: =Ítem6!C17 -> X km/h a XXX km/h | J8: =Ítem6!D17 -> X,XX km/h | K8: =Ítem6!E17 -> X,XX km/h - XX% | L8: =Ítem6!B20 -> X ºC a XX ºC | M8: =Ítem6!C20 -> X %HR a XX %HR | N8: =Ítem6!D20 -> -0.172494, -78.497285 | O8: =Ítem6!E20 -> 0 | P8: =Ítem6!F20 -> 0 | Q8: =Ítem6!G20 -> 0 | R8: =Ítem6!H20 -> 0 | S8: =Ítem6!I20 -> 0
A9: =IF(E9=0,"",7) | B9: =IF(G9="Aproximación y Alejamiento",2,IF(G9="Alejamiento",1,IF(G9="Aproximación",1,""))) | C9: =Ítem7!B14 -> 0 | D9: =Ítem7!C14 -> 0 | E9: =Ítem7!D14 -> 0 | F9: =Ítem7!E14 -> 0 | G9: =Ítem7!F14 -> 0 | H9: =Ítem7!C31 -> 0 | I9: =Ítem7!C17 -> X km/h a XXX km/h | J9: =Ítem7!D17 -> X,XX km/h | K9: =Ítem7!E17 -> X,XX km/h - XX% | L9: =Ítem7!B20 -> X ºC a XX ºC | M9: =Ítem7!C20 -> X %HR a XX %HR | N9: =Ítem7!D20 -> -0.172494, -78.497285 | O9: =Ítem7!E20 -> 0 | P9: =Ítem7!F20 -> 0 | Q9: =Ítem7!G20 -> 0 | R9: =Ítem7!H20 -> 0 | S9: =Ítem7!I20 -> 0
A10: =IF(E10=0,"",8) | B10: =IF(G10="Aproximación y Alejamiento",2,IF(G10="Alejamiento",1,IF(G10="Aproximación",1,""))) | C10: =Ítem8!B14 -> 0 | D10: =Ítem8!C14 -> 0 | E10: =Ítem8!D14 -> 0 | F10: =Ítem8!E14 -> 0 | G10: =Ítem8!F14 -> 0 | H10: =Ítem8!C31 -> 0 | I10: =Ítem8!C17 -> X km/h a XXX km/h | J10: =Ítem8!D17 -> X,XX km/h | K10: =Ítem8!E17 -> X,XX km/h - XX% | L10: =Ítem8!B20 -> X ºC a XX ºC | M10: =Ítem8!C20 -> X %HR a XX %HR | N10: =Ítem8!D20 -> -0.172494, -78.497285 | O10: =Ítem8!E20 -> 0 | P10: =Ítem8!F20 -> 0 | Q10: =Ítem8!G20 -> 0 | R10: =Ítem8!H20 -> 0 | S10: =Ítem8!I20 -> 0
A11: =IF(E11=0,"",9) | B11: =IF(G11="Aproximación y Alejamiento",2,IF(G11="Alejamiento",1,IF(G11="Aproximación",1,""))) | C11: =Ítem9!B14 -> 0 | D11: =Ítem9!C14 -> 0 | E11: =Ítem9!D14 -> 0 | F11: =Ítem9!E14 -> 0 | G11: =Ítem9!F14 -> 0 | H11: =Ítem9!C31 -> 0 | I11: =Ítem9!C17 -> X km/h a XXX km/h | J11: =Ítem9!D17 -> X,XX km/h | K11: =Ítem9!E17 -> X,XX km/h - XX% | L11: =Ítem9!B20 -> X ºC a XX ºC | M11: =Ítem9!C20 -> X %HR a XX %HR | N11: =Ítem9!D20 -> -0.172494, -78.497285 | O11: =Ítem9!E20 -> 0 | P11: =Ítem9!F20 -> 0 | Q11: =Ítem9!G20 -> 0 | R11: =Ítem9!H20 -> 0 | S11: =Ítem9!I20 -> 0
A12: =IF(E12=0,"",10) | B12: =IF(G12="Aproximación y Alejamiento",2,IF(G12="Alejamiento",1,IF(G12="Aproximación",1,""))) | C12: =Ítem10!B14 -> 0 | D12: =Ítem10!C14 -> 0 | E12: =Ítem10!D14 -> 0 | F12: =Ítem10!E14 -> 0 | G12: =Ítem10!F14 -> 0 | H12: =Ítem10!C31 -> 0 | I12: =Ítem10!C17 -> X km/h a XXX km/h | J12: =Ítem10!D17 -> X,XX km/h | K12: =Ítem10!E17 -> X,XX km/h - XX% | L12: =Ítem10!B20 -> X ºC a XX ºC | M12: =Ítem10!C20 -> X %HR a XX %HR | N12: =Ítem10!D20 -> -0.172494, -78.497285 | O12: =Ítem10!E20 -> 0 | P12: =Ítem10!F20 -> 0 | Q12: =Ítem10!G20 -> 0 | R12: =Ítem10!H20 -> 0 | S12: =Ítem10!I20 -> 0
C14: TOTAL DE ÍTEMS FÍSICOS | D14: =COUNT(A3:A12) -> 0
C15: TOTAL DE CERTIFICADOS A EMITIR | D15: =SUM(B3:B12) -> 0
D16: =IF(B1=2,"Esta información será considerada para la facturación","")
J18: SOMOS INTELIGENCIA VEHICULAR
J19: #gamechanger
B20: Ingrese la información correspondiente a cada ítem en las pestañas siguientes de manera secuencial
B21: Si se solicitan más de 10 ítems crear un nuevo archivo e ingresar la información correspondiente

Sheet Ítem1
B1: Radar (Doppler) | C1: Tecnología óptica (Láser, infrarrojo, compuerta óptica) | D1: Inducción | E1: Piezoeléctricos (Presión) | F1: De tramo (Tiempo) | G1: GPS
B2: Aproximación | C2: Alejamiento | D2: Aproximación y Alejamiento
B3: Fijo | C3: Móvil
B4: Inicial | C4: Periódica | D4: Repetición (inicial o periódico) | E4: Verificación | F4: Otro
B5: Entrega física - Solicitante | C5: Envío por empresa logística | D5: No aplica (Instalación fíja)
B6: 1 | C6: 2 | D6: 3 | E6: 4 | F6: 5 | G6: Adicionales
B7: Acera | C7: Parterre | D7: Sobre la vía
B8: Urbano | C8: Perimetral | D8: Carretera recta
B13: MARCA DEL ÍTEM | C13: MODELO DEL ÍTEM | D13: NÚMERO DE SERIE DEL ÍTEM | E13: PRINCIPIO DE FUNCIONAMIENTO | F13: DETECCIÓN
F15: =IF(F14="Aproximación y Alejamiento","Se emitirán informes separados por cada sentido de circulación.","")
B16: UNIDAD DE MEDIDA | C16: INTERVALO DE MEDIDA | D16: RESOLUCIÓN | E16: PRECISIÓN
B17: Km/h | C17: X km/h a XXX km/h | D17: X,XX km/h | E17: X,XX km/h - XX%
B19: TEMPERATURA DE TRABAJO RANGO | C19: HUMEDAD DE TRABAJO RANGO | D19: COORDENADAS | E19: IDENTIFICACIÓN | F19: PROVINCIA | G19: CANTON | H19: VIA | I19: REFERENCIA
B20: X ºC a XX ºC | C20: X %HR a XX %HR | D20: -0.172494, -78.497285
B22: INSTALACIÓN
B23: ETAPA DE CALIBRACIÓN
B24: ENVÍO DE ÍTEM | C24: No aplica (Instalación fíja)
B25: LINK DE DESCARGA DE MANUAL DE OPERACIÓN
B26: LINK DE DESCARGA DE MANUAL DE FICHA TÉCNICA
B28: NÚMERO DE CARRILES CUBIERTOS POR EL ÍTEM
B29: ÚBICACIÓN DEL ÍTEM EN LA VÍA
B30: TÍPO DE VÍA
B31: LÍMITE DE VELOCIDAD | D31: =IF(C31="","","El número de velocidades de referencia para la calibración del ítem se establecerán según esta información y la Tabla 1 de la Resolución No. 010-DIR-2025-ANT")
B33: FOTOGRAFÍAS DEL ÍTEM
B34: Frontal y posterior (Al menos 20 metros antes y después de la ubicación del ítem)

Sheet Ítem2
B1: Radar (Doppler) | C1: Tecnología óptica (Láser, infrarrojo, compuerta óptica) | D1: Inducción | E1: Piezoeléctricos (Presión) | F1: De tramo (Tiempo) | G1: GPS
B2: Aproximación | C2: Alejamiento | D2: Aproximación y Alejamiento
B3: Fijo | C3: Móvil
B4: Inicial | C4: Periódica | D4: Repetición (inicial o periódico) | E4: Verificación | F4: Otro
B5: Entrega física - Solicitante | C5: Envío por empresa logística | D5: No aplica (Instalación fíja)
B6: 1 | C6: 2 | D6: 3 | E6: 4 | F6: 5 | G6: Adicionales
B7: Acera | C7: Parterre | D7: Sobre la vía
B8: Urbano | C8: Perimetral | D8: Carretera recta
B13: MARCA DEL ÍTEM | C13: MODELO DEL ÍTEM | D13: NÚMERO DE SERIE DEL ÍTEM | E13: PRINCIPIO DE FUNCIONAMIENTO | F13: DETECCIÓN
F15: =IF(F14="Aproximación y Alejamiento","Se emitirán informes separados por cada sentido de circulación.","")
B16: UNIDAD DE MEDIDA | C16: INTERVALO DE MEDIDA | D16: RESOLUCIÓN | E16: PRECISIÓN
B17: Km/h | C17: X km/h a XXX km/h | D17: X,XX km/h | E17: X,XX km/h - XX%
B19: TEMPERATURA DE TRABAJO RANGO | C19: HUMEDAD DE TRABAJO RANGO | D19: COORDENADAS | E19: IDENTIFICACIÓN | F19: PROVINCIA | G19: CANTON | H19: VIA | I19: REFERENCIA
B20: X ºC a XX ºC | C20: X %HR a XX %HR | D20: -0.172494, -78.497285
B22: INSTALACIÓN
B23: ETAPA DE CALIBRACIÓN
B24: ENVÍO DE ÍTEM | C24: No aplica (Instalación fíja)
B25: LINK DE DESCARGA DE MANUAL DE OPERACIÓN
B26: LINK DE DESCARGA DE MANUAL DE FICHA TÉCNICA
B28: NÚMERO DE CARRILES CUBIERTOS POR EL ÍTEM
B29: ÚBICACIÓN DEL ÍTEM EN LA VÍA
B30: TÍPO DE VÍA
B31: LÍMITE DE VELOCIDAD | D31: =IF(C31="","","El número de velocidades de referencia para la calibración del ítem se establecerán según esta información y la Tabla 1 de la Resolución No. 010-DIR-2025-ANT")
B33: FOTOGRAFÍAS DEL ÍTEM
B34: Frontal y posterior (Al menos 20 metros antes y después de la ubicación del ítem)

Sheet Ítem3
B1: Radar (Doppler) | C1: Tecnología óptica (Láser, infrarrojo, compuerta óptica) | D1: Inducción | E1: Piezoeléctricos (Presión) | F1: De tramo (Tiempo) | G1: GPS
B2: Aproximación | C2: Alejamiento | D2: Aproximación y Alejamiento
B3: Fijo | C3: Móvil
B4: Inicial | C4: Periódica | D4: Repetición (inicial o periódico) | E4: Verificación | F4: Otro
B5: Entrega física - Solicitante | C5: Envío por empresa logística | D5: No aplica (Instalación fíja)
B6: 1 | C6: 2 | D6: 3 | E6: 4 | F6: 5 | G6: Adicionales
B7: Acera | C7: Parterre | D7: Sobre la vía
B8: Urbano | C8: Perimetral | D8: Carretera recta
B13: MARCA DEL ÍTEM | C13: MODELO DEL ÍTEM | D13: NÚMERO DE SERIE DEL ÍTEM | E13: PRINCIPIO DE FUNCIONAMIENTO | F13: DETECCIÓN
F15: =IF(F14="Aproximación y Alejamiento","Se emitirán informes separados por cada sentido de circulación.","")
B16: UNIDAD DE MEDIDA | C16: INTERVALO DE MEDIDA | D16: RESOLUCIÓN | E16: PRECISIÓN
B17: Km/h | C17: X km/h a XXX km/h | D17: X,XX km/h | E17: X,XX km/h - XX%
B19: TEMPERATURA DE TRABAJO RANGO | C19: HUMEDAD DE TRABAJO RANGO | D19: COORDENADAS | E19: IDENTIFICACIÓN | F19: PROVINCIA | G19: CANTON | H19: VIA | I19: REFERENCIA
B20: X ºC a XX ºC | C20: X %HR a XX %HR | D20: -0.172494, -78.497285
B22: INSTALACIÓN
B23: ETAPA DE CALIBRACIÓN
B24: ENVÍO DE ÍTEM | C24: No aplica (Instalación fíja)
B25: LINK DE DESCARGA DE MANUAL DE OPERACIÓN
B26: LINK DE DESCARGA DE MANUAL DE FICHA TÉCNICA
B28: NÚMERO DE CARRILES CUBIERTOS POR EL ÍTEM
B29: ÚBICACIÓN DEL ÍTEM EN LA VÍA
B30: TÍPO DE VÍA
B31: LÍMITE DE VELOCIDAD | D31: =IF(C31="","","El número de velocidades de referencia para la calibración del ítem se establecerán según esta información y la Tabla 1 de la Resolución No. 010-DIR-2025-ANT")
B33: FOTOGRAFÍAS DEL ÍTEM
B34: Frontal y posterior (Al menos 20 metros antes y después de la ubicación del ítem)

Sheet Ítem4
B1: Radar (Doppler) | C1: Tecnología óptica (Láser, infrarrojo, compuerta óptica) | D1: Inducción | E1: Piezoeléctricos (Presión) | F1: De tramo (Tiempo) | G1: GPS
B2: Aproximación | C2: Alejamiento | D2: Aproximación y Alejamiento
B3: Fijo | C3: Móvil
B4: Inicial | C4: Periódica | D4: Repetición (inicial o periódico) | E4: Verificación | F4: Otro
B5: Entrega física - Solicitante | C5: Envío por empresa logística | D5: No aplica (Instalación fíja)
B6: 1 | C6: 2 | D6: 3 | E6: 4 | F6: 5 | G6: Adicionales
B7: Acera | C7: Parterre | D7: Sobre la vía
B8: Urbano | C8: Perimetral | D8: Carretera recta
B13: MARCA DEL ÍTEM | C13: MODELO DEL ÍTEM | D13: NÚMERO DE SERIE DEL ÍTEM | E13: PRINCIPIO DE FUNCIONAMIENTO | F13: DETECCIÓN
F15: =IF(F14="Aproximación y Alejamiento","Se emitirán informes separados por cada sentido de circulación.","")
B16: UNIDAD DE MEDIDA | C16: INTERVALO DE MEDIDA | D16: RESOLUCIÓN | E16: PRECISIÓN
B17: Km/h | C17: X km/h a XXX km/h | D17: X,XX km/h | E17: X,XX km/h - XX%
B19: TEMPERATURA DE TRABAJO RANGO | C19: HUMEDAD DE TRABAJO RANGO | D19: COORDENADAS | E19: IDENTIFICACIÓN | F19: PROVINCIA | G19: CANTON | H19: VIA | I19: REFERENCIA
B20: X ºC a XX ºC | C20: X %HR a XX %HR | D20: -0.172494, -78.497285
B22: INSTALACIÓN
B23: ETAPA DE CALIBRACIÓN
B24: ENVÍO DE ÍTEM | C24: No aplica (Instalación fíja)
B25: LINK DE DESCARGA DE MANUAL DE OPERACIÓN
B26: LINK DE DESCARGA DE MANUAL DE FICHA TÉCNICA
B28: NÚMERO DE CARRILES CUBIERTOS POR EL ÍTEM
B29: ÚBICACIÓN DEL ÍTEM EN LA VÍA
B30: TÍPO DE VÍA
B31: LÍMITE DE VELOCIDAD | D31: =IF(C31="","","El número de velocidades de referencia para la calibración del ítem se establecerán según esta información y la Tabla 1 de la Resolución No. 010-DIR-2025-ANT")
B33: FOTOGRAFÍAS DEL ÍTEM
B34: Frontal y posterior (Al menos 20 metros antes y después de la ubicación del ítem)

Sheet Ítem5
B1: Radar (Doppler) | C1: Tecnología óptica (Láser, infrarrojo, compuerta óptica) | D1: Inducción | E1: Piezoeléctricos (Presión) | F1: De tramo (Tiempo) | G1: GPS
B2: Aproximación | C2: Alejamiento | D2: Aproximación y Alejamiento
B3: Fijo | C3: Móvil
B4: Inicial | C4: Periódica | D4: Repetición (inicial o periódico) | E4: Verificación | F4: Otro
B5: Entrega física - Solicitante | C5: Envío por empresa logística | D5: No aplica (Instalación fíja)
B6: 1 | C6: 2 | D6: 3 | E6: 4 | F6: 5 | G6: Adicionales
B7: Acera | C7: Parterre | D7: Sobre la vía
B8: Urbano | C8: Perimetral | D8: Carretera recta
B13: MARCA DEL ÍTEM | C13: MODELO DEL ÍTEM | D13: NÚMERO DE SERIE DEL ÍTEM | E13: PRINCIPIO DE FUNCIONAMIENTO | F13: DETECCIÓN
F15: =IF(F14="Aproximación y Alejamiento","Se emitirán informes separados por cada sentido de circulación.","")
B16: UNIDAD DE MEDIDA | C16: INTERVALO DE MEDIDA | D16: RESOLUCIÓN | E16: PRECISIÓN
B17: Km/h | C17: X km/h a XXX km/h | D17: X,XX km/h | E17: X,XX km/h - XX%
B19: TEMPERATURA DE TRABAJO RANGO | C19: HUMEDAD DE TRABAJO RANGO | D19: COORDENADAS | E19: IDENTIFICACIÓN | F19: PROVINCIA | G19: CANTON | H19: VIA | I19: REFERENCIA
B20: X ºC a XX ºC | C20: X %HR a XX %HR | D20: -0.172494, -78.497285
B22: INSTALACIÓN
B23: ETAPA DE CALIBRACIÓN
B24: ENVÍO DE ÍTEM | C24: No aplica (Instalación fíja)
B25: LINK DE DESCARGA DE MANUAL DE OPERACIÓN
B26: LINK DE DESCARGA DE MANUAL DE FICHA TÉCNICA
B28: NÚMERO DE CARRILES CUBIERTOS POR EL ÍTEM
B29: ÚBICACIÓN DEL ÍTEM EN LA VÍA
B30: TÍPO DE VÍA
B31: LÍMITE DE VELOCIDAD | D31: =IF(C31="","","El número de velocidades de referencia para la calibración del ítem se establecerán según esta información y la Tabla 1 de la Resolución No. 010-DIR-2025-ANT")
B33: FOTOGRAFÍAS DEL ÍTEM
B34: Frontal y posterior (Al menos 20 metros antes y después de la ubicación del ítem)

Sheet Ítem6
B1: Radar (Doppler) | C1: Tecnología óptica (Láser, infrarrojo, compuerta óptica) | D1: Inducción | E1: Piezoeléctricos (Presión) | F1: De tramo (Tiempo) | G1: GPS
B2: Aproximación | C2: Alejamiento | D2: Aproximación y Alejamiento
B3: Fijo | C3: Móvil
B4: Inicial | C4: Periódica | D4: Repetición (inicial o periódico) | E4: Verificación | F4: Otro
B5: Entrega física - Solicitante | C5: Envío por empresa logística | D5: No aplica (Instalación fíja)
B6: 1 | C6: 2 | D6: 3 | E6: 4 | F6: 5 | G6: Adicionales
B7: Acera | C7: Parterre | D7: Sobre la vía
B8: Urbano | C8: Perimetral | D8: Carretera recta
B13: MARCA DEL ÍTEM | C13: MODELO DEL ÍTEM | D13: NÚMERO DE SERIE DEL ÍTEM | E13: PRINCIPIO DE FUNCIONAMIENTO | F13: DETECCIÓN
F15: =IF(F14="Aproximación y Alejamiento","Se emitirán informes separados por cada sentido de circulación.","")
B16: UNIDAD DE MEDIDA | C16: INTERVALO DE MEDIDA | D16: RESOLUCIÓN | E16: PRECISIÓN
B17: Km/h | C17: X km/h a XXX km/h | D17: X,XX km/h | E17: X,XX km/h - XX%
B19: TEMPERATURA DE TRABAJO RANGO | C19: HUMEDAD DE TRABAJO RANGO | D19: COORDENADAS | E19: IDENTIFICACIÓN | F19: PROVINCIA | G19: CANTON | H19: VIA | I19: REFERENCIA
B20: X ºC a XX ºC | C20: X %HR a XX %HR | D20: -0.172494, -78.497285
B22: INSTALACIÓN
B23: ETAPA DE CALIBRACIÓN
B24: ENVÍO DE ÍTEM | C24: No aplica (Instalación fíja)
B25: LINK DE DESCARGA DE MANUAL DE OPERACIÓN
B26: LINK DE DESCARGA DE MANUAL DE FICHA TÉCNICA
B28: NÚMERO DE CARRILES CUBIERTOS POR EL ÍTEM
B29: ÚBICACIÓN DEL ÍTEM EN LA VÍA
B30: TÍPO DE VÍA
B31: LÍMITE DE VELOCIDAD | D31: =IF(C31="","","El número de velocidades de referencia para la calibración del ítem se establecerán según esta información y la Tabla 1 de la Resolución No. 010-DIR-2025-ANT")
B33: FOTOGRAFÍAS DEL ÍTEM
B34: Frontal y posterior (Al menos 20 metros antes y después de la ubicación del ítem)

Sheet Ítem7
B1: Radar (Doppler) | C1: Tecnología óptica (Láser, infrarrojo, compuerta óptica) | D1: Inducción | E1: Piezoeléctricos (Presión) | F1: De tramo (Tiempo) | G1: GPS
B2: Aproximación | C2: Alejamiento | D2: Aproximación y Alejamiento
B3: Fijo | C3: Móvil
B4: Inicial | C4: Periódica | D4: Repetición (inicial o periódico) | E4: Verificación | F4: Otro
B5: Entrega física - Solicitante | C5: Envío por empresa logística | D5: No aplica (Instalación fíja)
B6: 1 | C6: 2 | D6: 3 | E6: 4 | F6: 5 | G6: Adicionales
B7: Acera | C7: Parterre | D7: Sobre la vía
B8: Urbano | C8: Perimetral | D8: Carretera recta
B13: MARCA DEL ÍTEM | C13: MODELO DEL ÍTEM | D13: NÚMERO DE SERIE DEL ÍTEM | E13: PRINCIPIO DE FUNCIONAMIENTO | F13: DETECCIÓN
F15: =IF(F14="Aproximación y Alejamiento","Se emitirán informes separados por cada sentido de circulación.","")
B16: UNIDAD DE MEDIDA | C16: INTERVALO DE MEDIDA | D16: RESOLUCIÓN | E16: PRECISIÓN
B17: Km/h | C17: X km/h a XXX km/h | D17: X,XX km/h | E17: X,XX km/h - XX%
B19: TEMPERATURA DE TRABAJO RANGO | C19: HUMEDAD DE TRABAJO RANGO | D19: COORDENADAS | E19: IDENTIFICACIÓN | F19: PROVINCIA | G19: CANTON | H19: VIA | I19: REFERENCIA
B20: X ºC a XX ºC | C20: X %HR a XX %HR | D20: -0.172494, -78.497285
B22: INSTALACIÓN
B23: ETAPA DE CALIBRACIÓN
B24: ENVÍO DE ÍTEM | C24: No aplica (Instalación fíja)
B25: LINK DE DESCARGA DE MANUAL DE OPERACIÓN
B26: LINK DE DESCARGA DE MANUAL DE FICHA TÉCNICA
B28: NÚMERO DE CARRILES CUBIERTOS POR EL ÍTEM
B29: ÚBICACIÓN DEL ÍTEM EN LA VÍA
B30: TÍPO DE VÍA
B31: LÍMITE DE VELOCIDAD | D31: =IF(C31="","","El número de velocidades de referencia para la calibración del ítem se establecerán según esta información y la Tabla 1 de la Resolución No. 010-DIR-2025-ANT")
B33: FOTOGRAFÍAS DEL ÍTEM
B34: Frontal y posterior (Al menos 20 metros antes y después de la ubicación del ítem)

Sheet Ítem8
B1: Radar (Doppler) | C1: Tecnología óptica (Láser, infrarrojo, compuerta óptica) | D1: Inducción | E1: Piezoeléctricos (Presión) | F1: De tramo (Tiempo) | G1: GPS
B2: Aproximación | C2: Alejamiento | D2: Aproximación y Alejamiento
B3: Fijo | C3: Móvil
B4: Inicial | C4: Periódica | D4: Repetición (inicial o periódico) | E4: Verificación | F4: Otro
B5: Entrega física - Solicitante | C5: Envío por empresa logística | D5: No aplica (Instalación fíja)
B6: 1 | C6: 2 | D6: 3 | E6: 4 | F6: 5 | G6: Adicionales
B7: Acera | C7: Parterre | D7: Sobre la vía
B8: Urbano | C8: Perimetral | D8: Carretera recta
B13: MARCA DEL ÍTEM | C13: MODELO DEL ÍTEM | D13: NÚMERO DE SERIE DEL ÍTEM | E13: PRINCIPIO DE FUNCIONAMIENTO | F13: DETECCIÓN
F15: =IF(F14="Aproximación y Alejamiento","Se emitirán informes separados por cada sentido de circulación.","")
B16: UNIDAD DE MEDIDA | C16: INTERVALO DE MEDIDA | D16: RESOLUCIÓN | E16: PRECISIÓN
B17: Km/h | C17: X km/h a XXX km/h | D17: X,XX km/h | E17: X,XX km/h - XX%
B19: TEMPERATURA DE TRABAJO RANGO | C19: HUMEDAD DE TRABAJO RANGO | D19: COORDENADAS | E19: IDENTIFICACIÓN | F19: PROVINCIA | G19: CANTON | H19: VIA | I19: REFERENCIA
B20: X ºC a XX ºC | C20: X %HR a XX %HR | D20: -0.172494, -78.497285
B22: INSTALACIÓN
B23: ETAPA DE CALIBRACIÓN
B24: ENVÍO DE ÍTEM | C24: No aplica (Instalación fíja)
B25: LINK DE DESCARGA DE MANUAL DE OPERACIÓN
B26: LINK DE DESCARGA DE MANUAL DE FICHA TÉCNICA
B28: NÚMERO DE CARRILES CUBIERTOS POR EL ÍTEM
B29: ÚBICACIÓN DEL ÍTEM EN LA VÍA
B30: TÍPO DE VÍA
B31: LÍMITE DE VELOCIDAD | D31: =IF(C31="","","El número de velocidades de referencia para la calibración del ítem se establecerán según esta información y la Tabla 1 de la Resolución No. 010-DIR-2025-ANT")
B33: FOTOGRAFÍAS DEL ÍTEM
B34: Frontal y posterior (Al menos 20 metros antes y después de la ubicación del ítem)

Sheet Ítem9
B1: Radar (Doppler) | C1: Tecnología óptica (Láser, infrarrojo, compuerta óptica) | D1: Inducción | E1: Piezoeléctricos (Presión) | F1: De tramo (Tiempo) | G1: GPS
B2: Aproximación | C2: Alejamiento | D2: Aproximación y Alejamiento
B3: Fijo | C3: Móvil
B4: Inicial | C4: Periódica | D4: Repetición (inicial o periódico) | E4: Verificación | F4: Otro
B5: Entrega física - Solicitante | C5: Envío por empresa logística | D5: No aplica (Instalación fíja)
B6: 1 | C6: 2 | D6: 3 | E6: 4 | F6: 5 | G6: Adicionales
B7: Acera | C7: Parterre | D7: Sobre la vía
B8: Urbano | C8: Perimetral | D8: Carretera recta
B13: MARCA DEL ÍTEM | C13: MODELO DEL ÍTEM | D13: NÚMERO DE SERIE DEL ÍTEM | E13: PRINCIPIO DE FUNCIONAMIENTO | F13: DETECCIÓN
F15: =IF(F14="Aproximación y Alejamiento","Se emitirán informes separados por cada sentido de circulación.","")
B16: UNIDAD DE MEDIDA | C16: INTERVALO DE MEDIDA | D16: RESOLUCIÓN | E16: PRECISIÓN
B17: Km/h | C17: X km/h a XXX km/h | D17: X,XX km/h | E17: X,XX km/h - XX%
B19: TEMPERATURA DE TRABAJO RANGO | C19: HUMEDAD DE TRABAJO RANGO | D19: COORDENADAS | E19: IDENTIFICACIÓN | F19: PROVINCIA | G19: CANTON | H19: VIA | I19: REFERENCIA
B20: X ºC a XX ºC | C20: X %HR a XX %HR | D20: -0.172494, -78.497285
B22: INSTALACIÓN
B23: ETAPA DE CALIBRACIÓN
B24: ENVÍO DE ÍTEM | C24: No aplica (Instalación fíja)
B25: LINK DE DESCARGA DE MANUAL DE OPERACIÓN
B26: LINK DE DESCARGA DE MANUAL DE FICHA TÉCNICA
B28: NÚMERO DE CARRILES CUBIERTOS POR EL ÍTEM
B29: ÚBICACIÓN DEL ÍTEM EN LA VÍA
B30: TÍPO DE VÍA
B31: LÍMITE DE VELOCIDAD | D31: =IF(C31="","","El número de velocidades de referencia para la calibración del ítem se establecerán según esta información y la Tabla 1 de la Resolución No. 010-DIR-2025-ANT")
B33: FOTOGRAFÍAS DEL ÍTEM
B34: Frontal y posterior (Al menos 20 metros antes y después de la ubicación del ítem)

Sheet Ítem10
B1: Radar (Doppler) | C1: Tecnología óptica (Láser, infrarrojo, compuerta óptica) | D1: Inducción | E1: Piezoeléctricos (Presión) | F1: De tramo (Tiempo) | G1: GPS
B2: Aproximación | C2: Alejamiento | D2: Aproximación y Alejamiento
B3: Fijo | C3: Móvil
B4: Inicial | C4: Periódica | D4: Repetición (inicial o periódico) | E4: Verificación | F4: Otro
B5: Entrega física - Solicitante | C5: Envío por empresa logística | D5: No aplica (Instalación fíja)
B6: 1 | C6: 2 | D6: 3 | E6: 4 | F6: 5 | G6: Adicionales
B7: Acera | C7: Parterre | D7: Sobre la vía
B8: Urbano | C8: Perimetral | D8: Carretera recta
B13: MARCA DEL ÍTEM | C13: MODELO DEL ÍTEM | D13: NÚMERO DE SERIE DEL ÍTEM | E13: PRINCIPIO DE FUNCIONAMIENTO | F13: DETECCIÓN
F15: =IF(F14="Aproximación y Alejamiento","Se emitirán informes separados por cada sentido de circulación.","")
B16: UNIDAD DE MEDIDA | C16: INTERVALO DE MEDIDA | D16: RESOLUCIÓN | E16: PRECISIÓN
B17: Km/h | C17: X km/h a XXX km/h | D17: X,XX km/h | E17: X,XX km/h - XX%
B19: TEMPERATURA DE TRABAJO RANGO | C19: HUMEDAD DE TRABAJO RANGO | D19: COORDENADAS | E19: IDENTIFICACIÓN | F19: PROVINCIA | G19: CANTON | H19: VIA | I19: REFERENCIA
B20: X ºC a XX ºC | C20: X %HR a XX %HR | D20: -0.172494, -78.497285
B22: INSTALACIÓN
B23: ETAPA DE CALIBRACIÓN
B24: ENVÍO DE ÍTEM | C24: No aplica (Instalación fíja)
B25: LINK DE DESCARGA DE MANUAL DE OPERACIÓN
B26: LINK DE DESCARGA DE MANUAL DE FICHA TÉCNICA
B28: NÚMERO DE CARRILES CUBIERTOS POR EL ÍTEM
B29: ÚBICACIÓN DEL ÍTEM EN LA VÍA
B30: TÍPO DE VÍA
B31: LÍMITE DE VELOCIDAD | D31: =IF(C31="","","El número de velocidades de referencia para la calibración del ítem se establecerán según esta información y la Tabla 1 de la Resolución No. 010-DIR-2025-ANT")
B33: FOTOGRAFÍAS DEL ÍTEM
B34: Frontal y posterior (Al menos 20 metros antes y después de la ubicación del ítem)
